Package: pareg Version: 1.10.0 Command: chmod a+r pareg -R && F:\biocbuild\bbs-3.20-bioc\R\bin\R.exe --arch x64 CMD build --keep-empty-dirs --no-resave-data pareg StartedAt: 2025-01-27 20:55:06 -0500 (Mon, 27 Jan 2025) EndedAt: 2025-01-27 21:11:49 -0500 (Mon, 27 Jan 2025) EllapsedTime: 1003.4 seconds RetCode: 1 Status: ERROR PackageFile: None PackageFileSize: NA