Package: pareg Version: 1.10.0 Command: /Library/Frameworks/R.framework/Resources/bin/R CMD INSTALL pareg StartedAt: 2025-03-31 16:09:08 -0400 (Mon, 31 Mar 2025) EndedAt: 2025-03-31 16:09:51 -0400 (Mon, 31 Mar 2025) EllapsedTime: 42.6 seconds RetCode: 0 Status: OK