Package: panp Version: 1.76.0 Command: /home/biocbuild/R/R/bin/R CMD build --keep-empty-dirs --no-resave-data panp StartedAt: 2025-02-11 01:27:14 -0000 (Tue, 11 Feb 2025) EndedAt: 2025-02-11 01:27:25 -0000 (Tue, 11 Feb 2025) EllapsedTime: 11.0 seconds RetCode: 0 Status: OK PackageFile: panp_1.76.0.tar.gz PackageFileSize: 663.2 KiB