Package: panp Version: 1.76.0 Command: F:\biocbuild\bbs-3.20-bioc\R\bin\R.exe CMD check --no-multiarch --install=check:panp.install-out.txt --library=F:\biocbuild\bbs-3.20-bioc\R\library --no-vignettes --timings panp_1.76.0.tar.gz StartedAt: 2025-02-11 04:38:19 -0500 (Tue, 11 Feb 2025) EndedAt: 2025-02-11 04:39:15 -0500 (Tue, 11 Feb 2025) EllapsedTime: 55.6 seconds RetCode: 0 Status: OK CheckDir: panp.Rcheck Warnings: 0