Package: panp Version: 1.76.0 Command: chmod a+r panp -R && F:\biocbuild\bbs-3.20-bioc\R\bin\R.exe CMD build --keep-empty-dirs --no-resave-data panp StartedAt: 2025-02-10 20:58:02 -0500 (Mon, 10 Feb 2025) EndedAt: 2025-02-10 20:58:33 -0500 (Mon, 10 Feb 2025) EllapsedTime: 31.2 seconds RetCode: 0 Status: OK PackageFile: panp_1.76.0.tar.gz PackageFileSize: 512.3 KiB