Package: panp Version: 1.76.0 Command: /Library/Frameworks/R.framework/Resources/bin/R CMD build --keep-empty-dirs --no-resave-data panp StartedAt: 2025-02-10 21:10:37 -0500 (Mon, 10 Feb 2025) EndedAt: 2025-02-10 21:11:22 -0500 (Mon, 10 Feb 2025) EllapsedTime: 45.2 seconds RetCode: 0 Status: OK PackageFile: panp_1.76.0.tar.gz PackageFileSize: 671.4 KiB