Package: pandaR Version: 1.38.0 Command: F:\biocbuild\bbs-3.20-bioc\R\bin\R.exe CMD INSTALL pandaR StartedAt: 2025-03-31 15:33:23 -0400 (Mon, 31 Mar 2025) EndedAt: 2025-03-31 15:33:50 -0400 (Mon, 31 Mar 2025) EllapsedTime: 26.8 seconds RetCode: 0 Status: OK