Package: pandaR Version: 1.38.0 Command: /Library/Frameworks/R.framework/Resources/bin/R CMD check --install=check:pandaR.install-out.txt --library=/Library/Frameworks/R.framework/Resources/library --no-vignettes --timings pandaR_1.38.0.tar.gz StartedAt: 2025-04-01 06:54:21 -0400 (Tue, 01 Apr 2025) EndedAt: 2025-04-01 06:56:54 -0400 (Tue, 01 Apr 2025) EllapsedTime: 152.5 seconds RetCode: 0 Status: WARNINGS CheckDir: pandaR.Rcheck Warnings: 2