Package: pairkat Version: 1.12.0 Command: /Library/Frameworks/R.framework/Resources/bin/R CMD build --keep-empty-dirs --no-resave-data pairkat StartedAt: 2025-01-31 05:07:30 -0500 (Fri, 31 Jan 2025) EndedAt: 2025-01-31 05:10:04 -0500 (Fri, 31 Jan 2025) EllapsedTime: 153.3 seconds RetCode: 0 Status: OK PackageFile: pairkat_1.12.0.tar.gz PackageFileSize: 823.2 KiB