Package: paircompviz Version: 1.44.0 Command: /home/biocbuild/R/R/bin/R CMD build --keep-empty-dirs --no-resave-data paircompviz StartedAt: 2025-02-04 01:43:09 -0000 (Tue, 04 Feb 2025) EndedAt: 2025-02-04 01:43:23 -0000 (Tue, 04 Feb 2025) EllapsedTime: 14.0 seconds RetCode: 0 Status: OK PackageFile: paircompviz_1.44.0.tar.gz PackageFileSize: 343.9 KiB