Package: paircompviz Version: 1.44.0 Command: /Library/Frameworks/R.framework/Resources/bin/R CMD check --install=check:paircompviz.install-out.txt --library=/Library/Frameworks/R.framework/Resources/library --no-vignettes --timings paircompviz_1.44.0.tar.gz StartedAt: 2025-04-02 03:39:56 -0400 (Wed, 02 Apr 2025) EndedAt: 2025-04-02 03:40:47 -0400 (Wed, 02 Apr 2025) EllapsedTime: 51.5 seconds RetCode: 0 Status: OK CheckDir: paircompviz.Rcheck Warnings: 0