Package: pageRank Version: 1.16.0 Command: /Library/Frameworks/R.framework/Resources/bin/R CMD check --install=check:pageRank.install-out.txt --library=/Library/Frameworks/R.framework/Resources/library --no-vignettes --timings pageRank_1.16.0.tar.gz StartedAt: 2025-02-01 04:07:23 -0500 (Sat, 01 Feb 2025) EndedAt: 2025-02-01 04:13:04 -0500 (Sat, 01 Feb 2025) EllapsedTime: 340.7 seconds RetCode: 0 Status: OK CheckDir: pageRank.Rcheck Warnings: 0