Package: pageRank Version: 1.16.0 Command: rm -rf pageRank.buildbin-libdir && mkdir pageRank.buildbin-libdir && /Users/biocbuild/BBS/utils/build-universal.sh pageRank_1.16.0.tar.gz /Library/Frameworks/R.framework/Resources/bin/R pageRank.buildbin-libdir StartedAt: 2025-02-01 16:08:18 -0500 (Sat, 01 Feb 2025) EndedAt: 2025-02-01 16:09:11 -0500 (Sat, 01 Feb 2025) EllapsedTime: 53.1 seconds RetCode: 0 Status: OK PackageFile: pageRank_1.16.0.tgz PackageFileSize: 175.5 KiB