Package: padma Version: 1.16.0 Command: /home/biocbuild/R/R/bin/R CMD INSTALL padma StartedAt: 2025-02-10 20:59:19 -0000 (Mon, 10 Feb 2025) EndedAt: 2025-02-10 20:59:52 -0000 (Mon, 10 Feb 2025) EllapsedTime: 32.9 seconds RetCode: 0 Status: OK