Package: packFinder Version: 1.18.0 Command: F:\biocbuild\bbs-3.20-bioc\R\bin\R.exe CMD check --no-multiarch --install=check:packFinder.install-out.txt --library=F:\biocbuild\bbs-3.20-bioc\R\library --no-vignettes --timings packFinder_1.18.0.tar.gz StartedAt: 2025-02-04 04:40:34 -0500 (Tue, 04 Feb 2025) EndedAt: 2025-02-04 04:41:34 -0500 (Tue, 04 Feb 2025) EllapsedTime: 59.7 seconds RetCode: 0 Status: OK CheckDir: packFinder.Rcheck Warnings: 0