Package: packFinder Version: 1.18.0 Command: /Library/Frameworks/R.framework/Resources/bin/R CMD INSTALL packFinder StartedAt: 2025-03-31 17:01:09 -0400 (Mon, 31 Mar 2025) EndedAt: 2025-03-31 17:01:12 -0400 (Mon, 31 Mar 2025) EllapsedTime: 2.9 seconds RetCode: 0 Status: OK