Package: pRolocGUI Version: 2.16.0 Command: /home/biocbuild/bbs-3.20-bioc/R/bin/R CMD check --install=check:pRolocGUI.install-out.txt --library=/home/biocbuild/bbs-3.20-bioc/R/site-library --timings pRolocGUI_2.16.0.tar.gz StartedAt: 2024-11-20 07:45:04 -0500 (Wed, 20 Nov 2024) EndedAt: 2024-11-20 07:50:46 -0500 (Wed, 20 Nov 2024) EllapsedTime: 342.6 seconds RetCode: 0 Status: OK CheckDir: pRolocGUI.Rcheck Warnings: 0