Package: pRolocGUI Version: 2.16.0 Command: /home/biocbuild/bbs-3.20-bioc/R/bin/R CMD build --keep-empty-dirs --no-resave-data pRolocGUI StartedAt: 2024-11-19 20:57:07 -0500 (Tue, 19 Nov 2024) EndedAt: 2024-11-19 20:58:22 -0500 (Tue, 19 Nov 2024) EllapsedTime: 75.4 seconds RetCode: 0 Status: OK PackageFile: pRolocGUI_2.16.0.tar.gz PackageFileSize: 2.991 MiB