Package: pRolocGUI Version: 2.16.0 Command: /home/biocbuild/R/R/bin/R CMD check --install=check:pRolocGUI.install-out.txt --library=/home/biocbuild/R/R/site-library --no-vignettes --timings pRolocGUI_2.16.0.tar.gz StartedAt: 2025-02-04 10:01:33 -0000 (Tue, 04 Feb 2025) EndedAt: 2025-02-04 10:08:53 -0000 (Tue, 04 Feb 2025) EllapsedTime: 439.6 seconds RetCode: 0 Status: OK CheckDir: pRolocGUI.Rcheck Warnings: 0