Package: pRolocGUI Version: 2.16.0 Command: /Library/Frameworks/R.framework/Resources/bin/R CMD INSTALL pRolocGUI StartedAt: 2025-02-03 17:38:03 -0500 (Mon, 03 Feb 2025) EndedAt: 2025-02-03 17:39:00 -0500 (Mon, 03 Feb 2025) EllapsedTime: 57.7 seconds RetCode: 0 Status: OK