Package: pRolocGUI Version: 2.16.0 Command: /Library/Frameworks/R.framework/Resources/bin/R CMD check --install=check:pRolocGUI.install-out.txt --library=/Library/Frameworks/R.framework/Resources/library --no-vignettes --timings pRolocGUI_2.16.0.tar.gz StartedAt: 2025-04-02 04:47:19 -0400 (Wed, 02 Apr 2025) EndedAt: 2025-04-02 04:53:58 -0400 (Wed, 02 Apr 2025) EllapsedTime: 398.2 seconds RetCode: 0 Status: OK CheckDir: pRolocGUI.Rcheck Warnings: 0