Package: pRolocGUI Version: 2.16.0 Command: rm -rf pRolocGUI.buildbin-libdir && mkdir pRolocGUI.buildbin-libdir && /Users/biocbuild/BBS/utils/build-universal.sh pRolocGUI_2.16.0.tar.gz /Library/Frameworks/R.framework/Resources/bin/R pRolocGUI.buildbin-libdir StartedAt: 2025-01-29 15:59:39 -0500 (Wed, 29 Jan 2025) EndedAt: 2025-01-29 16:00:42 -0500 (Wed, 29 Jan 2025) EllapsedTime: 63.8 seconds RetCode: 0 Status: OK PackageFile: pRolocGUI_2.16.0.tgz PackageFileSize: 1.774 MiB