Package: pRoloc Version: 1.46.0 Command: /home/biocbuild/R/R/bin/R CMD build --keep-empty-dirs --no-resave-data pRoloc StartedAt: 2025-01-28 02:28:25 -0000 (Tue, 28 Jan 2025) EndedAt: 2025-01-28 02:33:15 -0000 (Tue, 28 Jan 2025) EllapsedTime: 290.1 seconds RetCode: 1 Status: ERROR PackageFile: None PackageFileSize: NA