Package: pRoloc Version: 1.46.0 Command: /home/biocbuild/bbs-3.20-bioc/R/bin/R CMD INSTALL pRoloc StartedAt: 2025-01-27 16:43:36 -0500 (Mon, 27 Jan 2025) EndedAt: 2025-01-27 16:45:06 -0500 (Mon, 27 Jan 2025) EllapsedTime: 90.6 seconds RetCode: 0 Status: OK