Package: pRoloc Version: 1.46.1 Command: /Library/Frameworks/R.framework/Resources/bin/R CMD INSTALL pRoloc StartedAt: 2025-03-31 17:37:29 -0400 (Mon, 31 Mar 2025) EndedAt: 2025-03-31 17:38:51 -0400 (Mon, 31 Mar 2025) EllapsedTime: 82.0 seconds RetCode: 0 Status: OK