Package: pRoloc Version: 1.46.0 Command: /Library/Frameworks/R.framework/Resources/bin/R CMD check --install=check:pRoloc.install-out.txt --library=/Library/Frameworks/R.framework/Resources/library --no-vignettes --timings pRoloc_1.46.0.tar.gz StartedAt: 2025-01-11 05:29:16 -0500 (Sat, 11 Jan 2025) EndedAt: 2025-01-11 05:40:35 -0500 (Sat, 11 Jan 2025) EllapsedTime: 679.7 seconds RetCode: 0 Status: OK CheckDir: pRoloc.Rcheck Warnings: 0