Package: orthos Version: 1.4.0 Command: rm -rf orthos.buildbin-libdir && mkdir orthos.buildbin-libdir && F:\biocbuild\bbs-3.20-bioc\R\bin\R.exe CMD INSTALL --build --library=orthos.buildbin-libdir orthos_1.4.0.tar.gz StartedAt: 2025-01-31 09:14:14 -0500 (Fri, 31 Jan 2025) EndedAt: 2025-01-31 09:14:49 -0500 (Fri, 31 Jan 2025) EllapsedTime: 34.9 seconds RetCode: 0 Status: OK PackageFile: orthos_1.4.0.zip PackageFileSize: 1.955 MiB