Package: orthogene Version: 1.12.0 Command: /home/biocbuild/R/R/bin/R CMD check --install=check:orthogene.install-out.txt --library=/home/biocbuild/R/R/site-library --no-vignettes --timings orthogene_1.12.0.tar.gz StartedAt: 2025-01-28 09:48:09 -0000 (Tue, 28 Jan 2025) EndedAt: 2025-01-28 09:59:40 -0000 (Tue, 28 Jan 2025) EllapsedTime: 691.2 seconds RetCode: 0 Status: OK CheckDir: orthogene.Rcheck Warnings: 0