Package: orthogene Version: 1.12.0 Command: /home/biocbuild/R/R/bin/R CMD build --keep-empty-dirs --no-resave-data orthogene StartedAt: 2025-02-04 01:39:43 -0000 (Tue, 04 Feb 2025) EndedAt: 2025-02-04 01:40:37 -0000 (Tue, 04 Feb 2025) EllapsedTime: 54.1 seconds RetCode: 0 Status: OK PackageFile: orthogene_1.12.0.tar.gz PackageFileSize: 2.514 MiB