Package: orthogene Version: 1.12.0 Command: F:\biocbuild\bbs-3.20-bioc\R\bin\R.exe CMD INSTALL orthogene StartedAt: 2025-03-31 17:01:06 -0400 (Mon, 31 Mar 2025) EndedAt: 2025-03-31 17:01:37 -0400 (Mon, 31 Mar 2025) EllapsedTime: 31.2 seconds RetCode: 0 Status: OK