Package: optimalFlow Version: 1.18.0 Command: F:\biocbuild\bbs-3.20-bioc\R\bin\R.exe CMD INSTALL optimalFlow StartedAt: 2025-03-31 15:40:21 -0400 (Mon, 31 Mar 2025) EndedAt: 2025-03-31 15:40:52 -0400 (Mon, 31 Mar 2025) EllapsedTime: 31.4 seconds RetCode: 0 Status: OK