Package: oppar Version: 1.34.0 Command: /Library/Frameworks/R.framework/Resources/bin/R CMD check --install=check:oppar.install-out.txt --library=/Library/Frameworks/R.framework/Resources/library --no-vignettes --timings oppar_1.34.0.tar.gz StartedAt: 2025-02-11 07:55:15 -0500 (Tue, 11 Feb 2025) EndedAt: 2025-02-11 08:06:54 -0500 (Tue, 11 Feb 2025) EllapsedTime: 699.9 seconds RetCode: 0 Status: WARNINGS CheckDir: oppar.Rcheck Warnings: 2