Package: openPrimeR Version: 1.28.0 Command: /Library/Frameworks/R.framework/Resources/bin/R CMD check --install=check:openPrimeR.install-out.txt --library=/Library/Frameworks/R.framework/Resources/library --no-vignettes --timings openPrimeR_1.28.0.tar.gz StartedAt: 2025-02-04 07:31:28 -0500 (Tue, 04 Feb 2025) EndedAt: 2025-02-04 07:41:36 -0500 (Tue, 04 Feb 2025) EllapsedTime: 607.7 seconds RetCode: 0 Status: OK CheckDir: openPrimeR.Rcheck Warnings: 0