Package: openPrimeR Version: 1.28.0 Command: /Library/Frameworks/R.framework/Resources/bin/R CMD build --keep-empty-dirs --no-resave-data openPrimeR StartedAt: 2025-01-30 21:34:25 -0500 (Thu, 30 Jan 2025) EndedAt: 2025-01-30 21:37:35 -0500 (Thu, 30 Jan 2025) EllapsedTime: 189.7 seconds RetCode: 0 Status: OK PackageFile: openPrimeR_1.28.0.tar.gz PackageFileSize: 2.152 MiB