Package: openPrimeR Version: 1.28.0 Command: /Library/Frameworks/R.framework/Resources/bin/R CMD INSTALL openPrimeR StartedAt: 2025-02-03 17:59:00 -0500 (Mon, 03 Feb 2025) EndedAt: 2025-02-03 17:59:31 -0500 (Mon, 03 Feb 2025) EllapsedTime: 31.3 seconds RetCode: 0 Status: OK