Package: openPrimeR Version: 1.28.0 Command: /Library/Frameworks/R.framework/Resources/bin/R CMD build --keep-empty-dirs --no-resave-data openPrimeR StartedAt: 2025-02-04 05:00:44 -0500 (Tue, 04 Feb 2025) EndedAt: 2025-02-04 05:02:26 -0500 (Tue, 04 Feb 2025) EllapsedTime: 102.7 seconds RetCode: 0 Status: OK PackageFile: openPrimeR_1.28.0.tar.gz PackageFileSize: 2.153 MiB