Package: ontoProc Version: 2.0.0 Command: /Library/Frameworks/R.framework/Resources/bin/R CMD INSTALL ontoProc StartedAt: 2025-01-27 16:04:52 -0500 (Mon, 27 Jan 2025) EndedAt: 2025-01-27 16:06:03 -0500 (Mon, 27 Jan 2025) EllapsedTime: 70.9 seconds RetCode: 0 Status: OK