Package: onlineFDR Version: 2.14.0 Command: F:\biocbuild\bbs-3.20-bioc\R\bin\R.exe CMD INSTALL onlineFDR StartedAt: 2025-01-27 15:28:36 -0500 (Mon, 27 Jan 2025) EndedAt: 2025-01-27 15:29:40 -0500 (Mon, 27 Jan 2025) EllapsedTime: 63.3 seconds RetCode: 0 Status: OK