Package: oncomix Version: 1.28.0 Command: chmod a+r oncomix -R && F:\biocbuild\bbs-3.20-bioc\R\bin\R.exe CMD build --keep-empty-dirs --no-resave-data oncomix StartedAt: 2025-01-27 20:44:26 -0500 (Mon, 27 Jan 2025) EndedAt: 2025-01-27 20:47:33 -0500 (Mon, 27 Jan 2025) EllapsedTime: 186.9 seconds RetCode: 0 Status: OK PackageFile: oncomix_1.28.0.tar.gz PackageFileSize: 1.688 MiB