Package: ompBAM Version: 1.10.0 Command: rm -rf ompBAM.buildbin-libdir && mkdir ompBAM.buildbin-libdir && F:\biocbuild\bbs-3.20-bioc\R\bin\R.exe CMD INSTALL --build --library=ompBAM.buildbin-libdir ompBAM_1.10.0.tar.gz StartedAt: 2025-04-01 08:47:48 -0400 (Tue, 01 Apr 2025) EndedAt: 2025-04-01 08:48:05 -0400 (Tue, 01 Apr 2025) EllapsedTime: 16.5 seconds RetCode: 0 Status: OK PackageFile: ompBAM_1.10.0.zip PackageFileSize: 3.157 MiB