Package: ompBAM Version: 1.10.0 Command: /Library/Frameworks/R.framework/Resources/bin/R CMD check --install=check:ompBAM.install-out.txt --library=/Library/Frameworks/R.framework/Resources/library --no-vignettes --timings ompBAM_1.10.0.tar.gz StartedAt: 2025-04-02 03:15:16 -0400 (Wed, 02 Apr 2025) EndedAt: 2025-04-02 03:16:08 -0400 (Wed, 02 Apr 2025) EllapsedTime: 51.5 seconds RetCode: 0 Status: OK CheckDir: ompBAM.Rcheck Warnings: 0