Package: ompBAM Version: 1.10.0 Command: /Library/Frameworks/R.framework/Resources/bin/R CMD build --keep-empty-dirs --no-resave-data ompBAM StartedAt: 2025-01-28 04:47:57 -0500 (Tue, 28 Jan 2025) EndedAt: 2025-01-28 04:48:21 -0500 (Tue, 28 Jan 2025) EllapsedTime: 23.8 seconds RetCode: 0 Status: OK PackageFile: ompBAM_1.10.0.tar.gz PackageFileSize: 3.143 MiB