Package: omicsViewer Version: 1.10.0 Command: /home/biocbuild/R/R/bin/R CMD INSTALL omicsViewer StartedAt: 2025-03-31 21:10:28 -0000 (Mon, 31 Mar 2025) EndedAt: 2025-03-31 21:11:10 -0000 (Mon, 31 Mar 2025) EllapsedTime: 42.2 seconds RetCode: 0 Status: OK