Package: omicsViewer Version: 1.10.0 Command: /home/biocbuild/R/R/bin/R CMD build --keep-empty-dirs --no-resave-data omicsViewer StartedAt: 2025-04-01 01:17:06 -0000 (Tue, 01 Apr 2025) EndedAt: 2025-04-01 01:19:01 -0000 (Tue, 01 Apr 2025) EllapsedTime: 115.1 seconds RetCode: 0 Status: OK PackageFile: omicsViewer_1.10.0.tar.gz PackageFileSize: 4.387 MiB