Package: omicsPrint Version: 1.26.0 Command: /Library/Frameworks/R.framework/Resources/bin/R CMD INSTALL omicsPrint StartedAt: 2025-01-27 15:24:24 -0500 (Mon, 27 Jan 2025) EndedAt: 2025-01-27 15:25:22 -0500 (Mon, 27 Jan 2025) EllapsedTime: 57.5 seconds RetCode: 0 Status: OK