Package: omicplotR Version: 1.26.0 Command: /home/biocbuild/bbs-3.20-bioc/R/bin/R CMD INSTALL omicplotR StartedAt: 2025-01-27 16:41:45 -0500 (Mon, 27 Jan 2025) EndedAt: 2025-01-27 16:42:13 -0500 (Mon, 27 Jan 2025) EllapsedTime: 28.4 seconds RetCode: 0 Status: OK