Package: omicplotR Version: 1.26.0 Command: /Library/Frameworks/R.framework/Resources/bin/R CMD build --keep-empty-dirs --no-resave-data omicplotR StartedAt: 2025-03-31 20:42:15 -0400 (Mon, 31 Mar 2025) EndedAt: 2025-03-31 20:43:10 -0400 (Mon, 31 Mar 2025) EllapsedTime: 54.5 seconds RetCode: 0 Status: OK PackageFile: omicplotR_1.26.0.tar.gz PackageFileSize: 1.64 MiB