Package: omicade4 Version: 1.46.0 Command: /home/biocbuild/R/R/bin/R CMD build --keep-empty-dirs --no-resave-data omicade4 StartedAt: 2025-01-28 02:04:04 -0000 (Tue, 28 Jan 2025) EndedAt: 2025-01-28 02:04:49 -0000 (Tue, 28 Jan 2025) EllapsedTime: 45.0 seconds RetCode: 0 Status: OK PackageFile: omicade4_1.46.0.tar.gz PackageFileSize: 535.9 KiB