Package: omicade4 Version: 1.46.0 Command: /Library/Frameworks/R.framework/Resources/bin/R CMD INSTALL omicade4 StartedAt: 2025-02-03 15:30:05 -0500 (Mon, 03 Feb 2025) EndedAt: 2025-02-03 15:30:30 -0500 (Mon, 03 Feb 2025) EllapsedTime: 24.6 seconds RetCode: 0 Status: OK