Package: omicade4 Version: 1.46.0 Command: /Library/Frameworks/R.framework/Resources/bin/R CMD build --keep-empty-dirs --no-resave-data omicade4 StartedAt: 2025-02-11 04:51:37 -0500 (Tue, 11 Feb 2025) EndedAt: 2025-02-11 04:52:22 -0500 (Tue, 11 Feb 2025) EllapsedTime: 45.5 seconds RetCode: 0 Status: OK PackageFile: omicade4_1.46.0.tar.gz PackageFileSize: 544.1 KiB